BEGIN:VCALENDAR
PRODID:-//Microsoft Corporation//Outlook MIMEDIR//EN
VERSION:2.0
METHOD:PUBLISH
BEGIN:VEVENT
DTSTART:20260413T153000
DTEND:20260413T163000
DESCRIPTION:
LOCATION:Hybrid Meeting:  Attend in person at ADRC 2865 N Sherman Avenue or virtually by Zoom
SUMMARY:Aging & Disability Resource Center Governing Board
CATEGORIES:MEETING
END:VEVENT
END:VCALENDAR
