BEGIN:VCALENDAR
PRODID:-//Microsoft Corporation//Outlook MIMEDIR//EN
VERSION:2.0
METHOD:PUBLISH
BEGIN:VEVENT
DTSTART:20260429T170000
DTEND:20260429T180000
DESCRIPTION:Notice of Potential Quorum
LOCATION:City County Building, Room 354
SUMMARY:County Board
CATEGORIES:MEETING
END:VEVENT
END:VCALENDAR
