BEGIN:VCALENDAR
PRODID:-//Microsoft Corporation//Outlook MIMEDIR//EN
VERSION:2.0
METHOD:PUBLISH
BEGIN:VEVENT
DTSTART:20260422T083000
DTEND:20260422T093000
DESCRIPTION:M3, 828 John Nolen Dr.,  Madison WI 53713; Remote: Toll Free 1-888-788-0099
LOCATION:M3, 828 John Nolen Dr.,  Madison WI 53713; Remote: Toll Free 1-888-788-0099
SUMMARY:Employee-Management Insurance Advisory Committee
CATEGORIES:MEETING
END:VEVENT
END:VCALENDAR
