BEGIN:VCALENDAR
PRODID:-//Microsoft Corporation//Outlook MIMEDIR//EN
VERSION:2.0
METHOD:PUBLISH
BEGIN:VEVENT
DTSTART:20260421T173000
DTEND:20260421T183000
DESCRIPTION:**CANCELED - LACK OF QUORUM** See below for additional instructions on how to attend the meeting and provide public testimony.
LOCATION:**CANCELED - LACK OF QUORUM** Hybrid Meeting: Attend in person at the City County Building in Room 356; attend virtually via Zoom.
SUMMARY:Equal Opportunity Commission
CATEGORIES:MEETING
END:VEVENT
END:VCALENDAR
